BEGIN:VCALENDAR
VERSION:2.0
PRODID:-//Tracy Cram Perkins - ECPv6.15.20//NONSGML v1.0//EN
CALSCALE:GREGORIAN
METHOD:PUBLISH
X-WR-CALNAME:Tracy Cram Perkins
X-ORIGINAL-URL:https://tracycramperkins.com
X-WR-CALDESC:Events for Tracy Cram Perkins
REFRESH-INTERVAL;VALUE=DURATION:PT1H
X-Robots-Tag:noindex
X-PUBLISHED-TTL:PT1H
BEGIN:VTIMEZONE
TZID:America/Los_Angeles
BEGIN:DAYLIGHT
TZOFFSETFROM:-0800
TZOFFSETTO:-0700
TZNAME:PDT
DTSTART:20200308T100000
END:DAYLIGHT
BEGIN:STANDARD
TZOFFSETFROM:-0700
TZOFFSETTO:-0800
TZNAME:PST
DTSTART:20201101T090000
END:STANDARD
BEGIN:DAYLIGHT
TZOFFSETFROM:-0800
TZOFFSETTO:-0700
TZNAME:PDT
DTSTART:20210314T100000
END:DAYLIGHT
BEGIN:STANDARD
TZOFFSETFROM:-0700
TZOFFSETTO:-0800
TZNAME:PST
DTSTART:20211107T090000
END:STANDARD
BEGIN:DAYLIGHT
TZOFFSETFROM:-0800
TZOFFSETTO:-0700
TZNAME:PDT
DTSTART:20220313T100000
END:DAYLIGHT
BEGIN:STANDARD
TZOFFSETFROM:-0700
TZOFFSETTO:-0800
TZNAME:PST
DTSTART:20221106T090000
END:STANDARD
BEGIN:DAYLIGHT
TZOFFSETFROM:-0800
TZOFFSETTO:-0700
TZNAME:PDT
DTSTART:20230312T100000
END:DAYLIGHT
BEGIN:STANDARD
TZOFFSETFROM:-0700
TZOFFSETTO:-0800
TZNAME:PST
DTSTART:20231105T090000
END:STANDARD
END:VTIMEZONE
BEGIN:VEVENT
DTSTART;TZID=America/Los_Angeles:20220226T120000
DTEND;TZID=America/Los_Angeles:20220226T150000
DTSTAMP:20260424T091324
CREATED:20220205T200005Z
LAST-MODIFIED:20220205T200005Z
UID:1893-1645876800-1645887600@tracycramperkins.com
SUMMARY:Learn to Make Your Home Dementia Friendly
DESCRIPTION:5 Little Known Secrets to Making Your Home More Dementia Friendly\nHow do you make your home safer for someone with dementia? Using these simple fixes found at the hardware store\, learn how to make your home more dementia friendly by adapting your loved one’s living environment to: \n\nReduce wandering\nImprove sundowning behaviors\nImprove home safety\nEmploy various cuing aidsUsing these simple fixes found at the hardware store\, learn how to adapt your loved one’s living environment\nUse items and techniques to encourage bathing\nReducing noise to reduce melt downs\nReduce hoarding\nCreate safety improvements\nTailor emergency preparedness for dementia\nUse color to reduce fear and improve self-feeding\n\nTo learn more about Tracy visit her About Page. For more information on Ace Hardware.
URL:https://tracycramperkins.com/event/learn-to-make-your-home-dementia-friendly-4/
LOCATION:Live Demonstration at Ace Hardware\, Gig Harbor\, WA\, 4816 Pt. Fosdick Dr\, Gig Harbor\, WA\, 98335\, United States
CATEGORIES:How to Prepare Your Living Environment for Someone with Dementia
ATTACH;FMTTYPE=image/jpeg:https://tracycramperkins.com/wp-content/uploads/2022/01/Ace-Hardware-Gig-Harbor-December-2021.jpg
END:VEVENT
BEGIN:VEVENT
DTSTART;TZID=America/Los_Angeles:20220225T120000
DTEND;TZID=America/Los_Angeles:20220225T150000
DTSTAMP:20260424T091324
CREATED:20220205T195126Z
LAST-MODIFIED:20220205T195219Z
UID:1888-1645790400-1645801200@tracycramperkins.com
SUMMARY:Learn to Make Your Home Dementia Friendly
DESCRIPTION:5 Little Known Secrets to Making Your Home More Dementia Friendly \nHow do you make your home safer for someone with dementia? Using these simple fixes found at the hardware store\, learn how to make your home more dementia friendly by adapting your loved one’s living environment to: \n\nReduce wandering\nImprove sundowning behaviors\nImprove home safety\nEmploy various cuing aidsUsing these simple fixes found at the hardware store\, learn how to adapt your loved one’s living environment\nUse items and techniques to encourage bathing\nReducing noise to reduce melt downs\nReduce hoarding\nCreate safety improvements\nTailor emergency preparedness for dementia\nUse color to reduce fear and improve self-feeding\n\nTo learn more about Tracy visit her About Page. For more information on Ace Hardware.
URL:https://tracycramperkins.com/event/learn-to-make-your-home-dementia-friendly-3/
LOCATION:Live Demonstration at Ace Hardware\, Gig Harbor\, WA\, 4816 Pt. Fosdick Dr\, Gig Harbor\, WA\, 98335\, United States
CATEGORIES:How to Prepare Your Living Environment for Someone with Dementia
ATTACH;FMTTYPE=image/jpeg:https://tracycramperkins.com/wp-content/uploads/2022/01/Ace-Hardware-Gig-Harbor-December-2021.jpg
END:VEVENT
BEGIN:VEVENT
DTSTART;TZID=America/Los_Angeles:20220212T120000
DTEND;TZID=America/Los_Angeles:20220212T150000
DTSTAMP:20260424T091324
CREATED:20220205T194127Z
LAST-MODIFIED:20220205T201231Z
UID:1875-1644667200-1644678000@tracycramperkins.com
SUMMARY:Learn to Make Your Home Dementia Friendly
DESCRIPTION:5 Little Known Secrets to Making Your Home More Dementia Friendly\nHow do you make your home safer for someone with dementia? Using these simple fixes found at the hardware store\, learn how to make your home more dementia friendly by adapting your loved one’s living environment to: \n\nReduce wandering\nImprove sundowning behaviors\nImprove home safety\nEmploy various cuing aidsUsing these simple fixes found at the hardware store\, learn how to adapt your loved one’s living environment\nUse items and techniques to encourage bathing\nReducing noise to reduce melt downs\nReduce hoarding\nCreate safety improvements\nTailor emergency preparedness for dementia\nUse color to reduce fear and improve self-feeding\n\nTo learn more about Tracy visit her About Page. For more information on Ace Hardware.
URL:https://tracycramperkins.com/event/learn-to-make-your-home-dementia-friendly/
LOCATION:Live Demonstration at Ace Hardware\, Gig Harbor\, WA\, 4816 Pt. Fosdick Dr\, Gig Harbor\, WA\, 98335\, United States
CATEGORIES:How to Prepare Your Living Environment for Someone with Dementia
ATTACH;FMTTYPE=image/jpeg:https://tracycramperkins.com/wp-content/uploads/2022/02/rsz_1tracy_at_ace_in_february.jpg
END:VEVENT
BEGIN:VEVENT
DTSTART;TZID=America/Los_Angeles:20220211T120000
DTEND;TZID=America/Los_Angeles:20220211T150000
DTSTAMP:20260424T091324
CREATED:20220205T194749Z
LAST-MODIFIED:20220205T201128Z
UID:1884-1644580800-1644591600@tracycramperkins.com
SUMMARY:Learn to Make Your Home Dementia Friendly
DESCRIPTION:5 Little Known Secrets to Making Your Home More Dementia Friendly\nHow do you make your home safer for someone with dementia? Using these simple fixes found at the hardware store\, learn how to make your home more dementia friendly by adapting your loved one’s living environment to: \n\nReduce wandering\nImprove sundowning behaviors\nImprove home safety\nEmploy various cuing aidsUsing these simple fixes found at the hardware store\, learn how to adapt your loved one’s living environment\nUse items and techniques to encourage bathing\nReducing noise to reduce melt downs\nReduce hoarding\nCreate safety improvements\nTailor emergency preparedness for dementia\nUse color to reduce fear and improve self-feeding\n\nTo learn more about Tracy visit her About Page. For more information on Ace Hardware.
URL:https://tracycramperkins.com/event/learn-to-make-your-home-dementia-friendly-2/
LOCATION:Live Demonstration at Ace Hardware\, Gig Harbor\, WA\, 4816 Pt. Fosdick Dr\, Gig Harbor\, WA\, 98335\, United States
CATEGORIES:How to Prepare Your Living Environment for Someone with Dementia
ATTACH;FMTTYPE=image/jpeg:https://tracycramperkins.com/wp-content/uploads/2022/02/rsz_1tracy_at_ace_in_february.jpg
END:VEVENT
BEGIN:VEVENT
DTSTART;TZID=America/Los_Angeles:20220130T120000
DTEND;TZID=America/Los_Angeles:20220130T150000
DTSTAMP:20260424T091324
CREATED:20220108T143833Z
LAST-MODIFIED:20220108T143833Z
UID:1845-1643544000-1643554800@tracycramperkins.com
SUMMARY:Is Your Home Dementia Friendly?
DESCRIPTION:5 Little Known Secrets to Making Your Home More Dementia Friendly\nHow do you make your home safer for someone with dementia? Using these simple fixes found at the hardware store\, learn how to make your home more dementia friendly by adapting your loved one’s living environment to: \n\nReduce wandering\nImprove sundowning behaviors\nImprove home safety\nEmploy various cuing aidsUsing these simple fixes found at the hardware store\, learn how to adapt your loved one’s living environment\nUse items and techniques to encourage bathing\nReducing noise to reduce melt downs\nReduce hoarding\nCreate safety improvements\nTailor emergency preparedness for dementia\nUse color to reduce fear and improve self-feeding\n\nTo learn more about Tracy visit her About Page. For more information on Ace Hardware.
URL:https://tracycramperkins.com/event/is-your-home-dementia-friendly-4/
LOCATION:Live Demonstration at Ace Hardware\, Gig Harbor\, WA\, 4816 Pt. Fosdick Dr\, Gig Harbor\, WA\, 98335\, United States
CATEGORIES:How to Prepare Your Living Environment for Someone with Dementia
ATTACH;FMTTYPE=image/jpeg:https://tracycramperkins.com/wp-content/uploads/2022/01/Ace-Hardware-Gig-Harbor-December-2021.jpg
END:VEVENT
BEGIN:VEVENT
DTSTART;TZID=America/Los_Angeles:20220129T120000
DTEND;TZID=America/Los_Angeles:20220129T150000
DTSTAMP:20260424T091324
CREATED:20220108T143427Z
LAST-MODIFIED:20220108T143427Z
UID:1841-1643457600-1643468400@tracycramperkins.com
SUMMARY:Is Your Home Dementia Friendly?
DESCRIPTION:5 Little Known Secrets to Making Your Home More Dementia Friendly\nHow do you make your home safer for someone with dementia? Using these simple fixes found at the hardware store\, learn how to make your home more dementia friendly by adapting your loved one’s living environment to: \n\nReduce wandering\nImprove sundowning behaviors\nImprove home safety\nEmploy various cuing aidsUsing these simple fixes found at the hardware store\, learn how to adapt your loved one’s living environment\nUse items and techniques to encourage bathing\nReducing noise to reduce melt downs\nReduce hoarding\nCreate safety improvements\nTailor emergency preparedness for dementia\nUse color to reduce fear and improve self-feeding\n\nTo learn more about Tracy visit her About Page. For more information on Ace Hardware.
URL:https://tracycramperkins.com/event/is-your-home-dementia-friendly-3/
LOCATION:Live Demonstration at Ace Hardware\, Gig Harbor\, WA\, 4816 Pt. Fosdick Dr\, Gig Harbor\, WA\, 98335\, United States
CATEGORIES:How to Prepare Your Living Environment for Someone with Dementia
ATTACH;FMTTYPE=image/jpeg:https://tracycramperkins.com/wp-content/uploads/2022/01/Ace-Hardware-Gig-Harbor-December-2021.jpg
END:VEVENT
BEGIN:VEVENT
DTSTART;TZID=America/Los_Angeles:20220123T120000
DTEND;TZID=America/Los_Angeles:20220123T150000
DTSTAMP:20260424T091324
CREATED:20220108T142922Z
LAST-MODIFIED:20220108T142934Z
UID:1838-1642939200-1642950000@tracycramperkins.com
SUMMARY:Is Your Home Dementia Friendly?
DESCRIPTION:5 Little Known Secrets to Making Your Home More Dementia Friendly\nHow do you make your home safer for someone with dementia? Using these simple fixes found at the hardware store\, learn how to make your home more dementia friendly by adapting your loved one’s living environment to:\n\n 	Reduce wandering\n 	Improve sundowning behaviors\n 	Improve home safety\n 	Employ various cuing aidsUsing these simple fixes found at the hardware store\, learn how to adapt your loved one’s living environment\n 	Use items and techniques to encourage bathing\n 	Reducing noise to reduce melt downs\n 	Reduce hoarding\n 	Create safety improvements\n 	Tailor emergency preparedness for dementia\n 	Use color to reduce fear and improve self-feeding\n\nTo learn more about Tracy visit her About Page. For more information on Ace Hardware.
URL:https://tracycramperkins.com/event/is-your-home-dementia-friendly-2/
LOCATION:Live Demonstration at Ace Hardware\, Gig Harbor\, WA\, 4816 Pt. Fosdick Dr\, Gig Harbor\, WA\, 98335\, United States
CATEGORIES:How to Prepare Your Living Environment for Someone with Dementia
ATTACH;FMTTYPE=image/jpeg:https://tracycramperkins.com/wp-content/uploads/2022/01/Ace-Hardware-Gig-Harbor-December-2021.jpg
END:VEVENT
BEGIN:VEVENT
DTSTART;TZID=America/Los_Angeles:20220122T120000
DTEND;TZID=America/Los_Angeles:20220122T150000
DTSTAMP:20260424T091324
CREATED:20220108T142412Z
LAST-MODIFIED:20220108T142412Z
UID:1834-1642852800-1642863600@tracycramperkins.com
SUMMARY:Is Your Home Dementia Friendly?
DESCRIPTION:5 Little Known Secrets to Making Your Home More Dementia Friendly\nHow do you make your home safer for someone with dementia? Using these simple fixes found at the hardware store\, learn how to make your home more dementia friendly by adapting your loved one’s living environment to: \n\nReduce wandering\nImprove sundowning behaviors\nImprove home safety\nEmploy various cuing aidsUsing these simple fixes found at the hardware store\, learn how to adapt your loved one’s living environment\nUse items and techniques to encourage bathing\nReducing noise to reduce melt downs\nReduce hoarding\nCreate safety improvements\nTailor emergency preparedness for dementia\nUse color to reduce fear and improve self-feeding\n\nTo learn more about Tracy visit her About Page. For more information on Ace Hardware.
URL:https://tracycramperkins.com/event/is-your-home-dementia-friendly/
LOCATION:Live Demonstration at Ace Hardware\, Gig Harbor\, WA\, 4816 Pt. Fosdick Dr\, Gig Harbor\, WA\, 98335\, United States
CATEGORIES:How to Prepare Your Living Environment for Someone with Dementia
ATTACH;FMTTYPE=image/jpeg:https://tracycramperkins.com/wp-content/uploads/2022/01/Ace-Hardware-Gig-Harbor-December-2021.jpg
END:VEVENT
BEGIN:VEVENT
DTSTART;TZID=America/Los_Angeles:20211218T120000
DTEND;TZID=America/Los_Angeles:20211218T150000
DTSTAMP:20260424T091324
CREATED:20211206T010334Z
LAST-MODIFIED:20211206T010334Z
UID:1765-1639828800-1639839600@tracycramperkins.com
SUMMARY:HOW DEMENTIA FRIENDLY IS YOUR HOME?
DESCRIPTION:5 Little Known Secrets to Making Your Home More Dementia Friendly\nHow do you make your home safer for someone with dementia? Using these simple fixes found at the hardware store\, learn how to make your home more dementia friendly by adapting your loved one’s living environment to: \n\nReduce wandering\nImprove sundowning behaviors\nImprove home safety\nEmploy various cuing aidsUsing these simple fixes found at the hardware store\, learn how to adapt your loved one’s living environment\nUse items and techniques to encourage bathing\nReducing noise to reduce melt downs\nReduce hoarding\nCreate safety improvements\nTailor emergency preparedness for dementia\nUse color to reduce fear and improve self-feeding\n\nTo learn more about Tracy visit her About Page. For more information on Ace Hardware.
URL:https://tracycramperkins.com/event/how-dementia-friendly-is-your-home-5/
LOCATION:Live Demonstration at Ace Hardware\, Gig Harbor\, WA\, 4816 Pt. Fosdick Dr\, Gig Harbor\, WA\, 98335\, United States
CATEGORIES:How to Prepare Your Living Environment for Someone with Dementia,Live Demonstrations
ATTACH;FMTTYPE=image/jpeg:https://tracycramperkins.com/wp-content/uploads/2021/10/rsz_img_8813-scaled.jpg
END:VEVENT
BEGIN:VEVENT
DTSTART;TZID=America/Los_Angeles:20211217T120000
DTEND;TZID=America/Los_Angeles:20211217T150000
DTSTAMP:20260424T091324
CREATED:20211206T005922Z
LAST-MODIFIED:20211206T005922Z
UID:1761-1639742400-1639753200@tracycramperkins.com
SUMMARY:HOW DEMENTIA FRIENDLY IS YOUR HOME?
DESCRIPTION:5 Little Known Secrets to Making Your Home More Dementia Friendly\nHow do you make your home safer for someone with dementia? Using these simple fixes found at the hardware store\, learn how to make your home more dementia friendly by adapting your loved one’s living environment to: \n\nReduce wandering\nImprove sundowning behaviors\nImprove home safety\nEmploy various cuing aidsUsing these simple fixes found at the hardware store\, learn how to adapt your loved one’s living environment\nUse items and techniques to encourage bathing\nReducing noise to reduce melt downs\nReduce hoarding\nCreate safety improvements\nTailor emergency preparedness for dementia\nUse color to reduce fear and improve self-feeding\n\nTo learn more about Tracy visit her About Page. For more information on Ace Hardware.
URL:https://tracycramperkins.com/event/how-dementia-friendly-is-your-home-4/
LOCATION:Live Demonstration at Ace Hardware\, Gig Harbor\, WA\, 4816 Pt. Fosdick Dr\, Gig Harbor\, WA\, 98335\, United States
CATEGORIES:How to Prepare Your Living Environment for Someone with Dementia,Live Demonstrations
ATTACH;FMTTYPE=image/jpeg:https://tracycramperkins.com/wp-content/uploads/2021/10/rsz_img_8813-scaled.jpg
END:VEVENT
BEGIN:VEVENT
DTSTART;TZID=America/Los_Angeles:20211211T120000
DTEND;TZID=America/Los_Angeles:20211211T150000
DTSTAMP:20260424T091324
CREATED:20211206T005308Z
LAST-MODIFIED:20211206T010016Z
UID:1757-1639224000-1639234800@tracycramperkins.com
SUMMARY:HOW DEMENTIA FRIENDLY IS YOUR HOME?
DESCRIPTION:5 Little Known Secrets to Making Your Home More Dementia Friendly\nHow do you make your home safer for someone with dementia? Using these simple fixes found at the hardware store\, learn how to make your home more dementia friendly by adapting your loved one’s living environment to: \n\nReduce wandering\nImprove sundowning behaviors\nImprove home safety\nEmploy various cuing aidsUsing these simple fixes found at the hardware store\, learn how to adapt your loved one’s living environment\nUse items and techniques to encourage bathing\nReducing noise to reduce melt downs\nReduce hoarding\nCreate safety improvements\nTailor emergency preparedness for dementia\nUse color to reduce fear and improve self-feeding\n\nTo learn more about Tracy visit her About Page. For more information on Ace Hardware.
URL:https://tracycramperkins.com/event/how-dementia-friendly-is-your-home-3/
LOCATION:Live Demonstration at Ace Hardware\, Gig Harbor\, WA\, 4816 Pt. Fosdick Dr\, Gig Harbor\, WA\, 98335\, United States
CATEGORIES:How to Prepare Your Living Environment for Someone with Dementia,Live Demonstrations
ATTACH;FMTTYPE=image/jpeg:https://tracycramperkins.com/wp-content/uploads/2021/10/rsz_img_8813-scaled.jpg
END:VEVENT
BEGIN:VEVENT
DTSTART;TZID=America/Los_Angeles:20211127T110000
DTEND;TZID=America/Los_Angeles:20211127T140000
DTSTAMP:20260424T091324
CREATED:20211029T233832Z
LAST-MODIFIED:20211206T003127Z
UID:1714-1638010800-1638021600@tracycramperkins.com
SUMMARY:How Dementia Friendly is Your Home?
DESCRIPTION:5 Little Known Secrets to Making Your Home More Dementia Friendly\nUsing these simple fixes found at the hardware store\, learn how to make your home more dementia friendly by adapting your loved one’s living environment to: \n\nReduce wandering\nImprove sundowning behaviors\nImprove home safety\nEmploy various cuing aidsUsing these simple fixes found at the hardware store\, learn how to adapt your loved one’s living environment\nUse items and techniques to encourage bathing\nReducing noise to reduce melt downs\nReduce hoarding\nCreate safety improvements\nTailor emergency preparedness for dementia\nUse color to reduce fear and improve self-feeding\n\nTo learn more about Tracy visit her About Page. For more information on Ace Hardware.
URL:https://tracycramperkins.com/event/how-dementia-friendly-is-your-home/
LOCATION:Live Demonstration at Ace Hardware\, Gig Harbor\, WA\, 4816 Pt. Fosdick Dr\, Gig Harbor\, WA\, 98335\, United States
CATEGORIES:How to Prepare Your Living Environment for Someone with Dementia
ATTACH;FMTTYPE=image/jpeg:https://tracycramperkins.com/wp-content/uploads/2021/10/rsz_img_8813-scaled.jpg
END:VEVENT
BEGIN:VEVENT
DTSTART;TZID=America/Los_Angeles:20211126T110000
DTEND;TZID=America/Los_Angeles:20211126T140000
DTSTAMP:20260424T091324
CREATED:20211029T235806Z
LAST-MODIFIED:20211110T032656Z
UID:1718-1637924400-1637935200@tracycramperkins.com
SUMMARY:How Dementia Friendly is Your Home?
DESCRIPTION:5 Little Known Secrets to Making Your Home More Dementia Friendly\nUsing these simple fixes found at the hardware store\, learn how to make your home more dementia friendly by adapting your loved one’s living environment to: \n\nReduce wandering\nImprove sundowning behaviors\nImprove home safety\nEmploy various cuing aidsUsing these simple fixes found at the hardware store\, learn how to adapt your loved one’s living environment\nUse items and techniques to encourage bathing\nReducing noise to reduce melt downs\nReduce hoarding\nCreate safety improvements\nTailor emergency preparedness for dementia\nUse color to reduce fear and improve self-feeding\n\nTo learn more about Tracy visit her About Page. For more information on Ace Hardware.
URL:https://tracycramperkins.com/event/how-dementia-friendly-is-your-home-2/
LOCATION:Live Demonstration at Ace Hardware\, Gig Harbor\, WA\, 4816 Pt. Fosdick Dr\, Gig Harbor\, WA\, 98335\, United States
CATEGORIES:How to Prepare Your Living Environment for Someone with Dementia
ATTACH;FMTTYPE=image/jpeg:https://tracycramperkins.com/wp-content/uploads/2021/10/rsz_img_8813-scaled.jpg
END:VEVENT
BEGIN:VEVENT
DTSTART;TZID=America/Los_Angeles:20211113T120000
DTEND;TZID=America/Los_Angeles:20211113T140000
DTSTAMP:20260424T091324
CREATED:20211029T231657Z
LAST-MODIFIED:20211029T234123Z
UID:1705-1636804800-1636812000@tracycramperkins.com
SUMMARY:How to Make Your Home More Dementia Friendly
DESCRIPTION:5 Little Known Secrets to Making Your Home More Dementia Friendly\nUsing these simple fixes found at the hardware store\, learn how to make your home more dementia friendly by adapting your loved one’s living environment to: \n\nReduce wandering\nImprove sundowning behaviors\nImprove home safety\nEmploy various cuing aidsUsing these simple fixes found at the hardware store\, learn how to adapt your loved one’s living environment\nUse items and techniques to encourage bathing\nReducing noise to reduce melt downs\nReduce hoarding\nCreate safety improvements\nTailor emergency preparedness for dementia\nUse color to reduce fear and improve self-feeding\n\nTo learn more about Tracy visit her About Page. \nFor more information on Ace Hardware. 
URL:https://tracycramperkins.com/event/how-to-make-your-home-more-dementia-friendly-5/
LOCATION:Live Demonstration at Ace Hardware\, Gig Harbor\, WA\, 4816 Pt. Fosdick Dr\, Gig Harbor\, WA\, 98335\, United States
CATEGORIES:How to Prepare Your Living Environment for Someone with Dementia
ATTACH;FMTTYPE=image/jpeg:https://tracycramperkins.com/wp-content/uploads/2021/10/rsz_img_8813-scaled.jpg
END:VEVENT
BEGIN:VEVENT
DTSTART;TZID=America/Los_Angeles:20211112T120000
DTEND;TZID=America/Los_Angeles:20211112T140000
DTSTAMP:20260424T091324
CREATED:20211029T232815Z
LAST-MODIFIED:20211102T022857Z
UID:1710-1636718400-1636725600@tracycramperkins.com
SUMMARY:How to Make Your Home More Dementia Friendly
DESCRIPTION:  \n5 Little Known Secrets to Making Your Home More Dementia Friendly\nUsing these simple fixes found at the hardware store\, learn how to make your home more dementia friendly by adapting your loved one’s living environment to: \n\nReduce wandering\nImprove sundowning behaviors\nImprove home safety\nEmploy various cuing aidsUsing these simple fixes found at the hardware store\, learn how to adapt your loved one’s living environment\nUse items and techniques to encourage bathing\nReducing noise to reduce melt downs\nReduce hoarding\nCreate safety improvements\nTailor emergency preparedness for dementia\nUse color to reduce fear and improve self-feeding\n\nTo learn more about Tracy visit her About Page. For more information on Ace Hardware.
URL:https://tracycramperkins.com/event/how-to-make-your-home-more-dementia-friendly-6/
LOCATION:Live Demonstration at Ace Hardware\, Gig Harbor\, WA\, 4816 Pt. Fosdick Dr\, Gig Harbor\, WA\, 98335\, United States
CATEGORIES:How to Prepare Your Living Environment for Someone with Dementia
ATTACH;FMTTYPE=image/jpeg:https://tracycramperkins.com/wp-content/uploads/2021/10/rsz_img_8813-scaled.jpg
END:VEVENT
BEGIN:VEVENT
DTSTART;TZID=America/Los_Angeles:20211030T120000
DTEND;TZID=America/Los_Angeles:20211030T140000
DTSTAMP:20260424T091324
CREATED:20211013T231321Z
LAST-MODIFIED:20211013T231518Z
UID:1681-1635595200-1635602400@tracycramperkins.com
SUMMARY:How to Make Your Home More Dementia Friendly
DESCRIPTION:5 Little Known Secrets to Making Your Home More Dementia Friendly\nUsing these simple fixes found at the hardware store\, learn how to adapt your loved one’s living environment to: \n\nReduce wandering\nImprove sundowning behaviors\nImprove home safety\nEmploy various cuing aidsUsing these simple fixes found at the hardware store\, learn how to adapt your loved one’s living environment\nUse items and techniques to encourage bathing\nReducing noise to reduce melt downs\nReduce hoarding\nCreate safety improvements\nTailor emergency preparedness for dementia\nUse color to reduce fear and improve self-feeding
URL:https://tracycramperkins.com/event/how-to-make-your-home-more-dementia-friendly-3/
LOCATION:Live Demonstration at Ace Hardware\, Gig Harbor\, WA\, 4816 Pt. Fosdick Dr\, Gig Harbor\, WA\, 98335\, United States
CATEGORIES:How to Prepare Your Living Environment for Someone with Dementia
ATTACH;FMTTYPE=image/jpeg:https://tracycramperkins.com/wp-content/uploads/2021/10/rsz_tracy_at_ace-1.jpg
END:VEVENT
BEGIN:VEVENT
DTSTART;TZID=America/Los_Angeles:20211029T120000
DTEND;TZID=America/Los_Angeles:20211029T140000
DTSTAMP:20260424T091324
CREATED:20211013T231409Z
LAST-MODIFIED:20211013T231409Z
UID:1677-1635508800-1635516000@tracycramperkins.com
SUMMARY:HOW TO MAKE YOUR HOME MORE DEMENTIA FRIENDLY
DESCRIPTION:5 Little Known Secrets to Making Your Home More Dementia Friendly\nUsing these simple fixes found at the hardware store\, learn how to adapt your loved one’s living environment to: \n\nReduce wandering\nImprove sundowning behaviors\nImprove home safety\nEmploy various cuing aidsUsing these simple fixes found at the hardware store\, learn how to adapt your loved one’s living environment\nUse items and techniques to encourage bathing\nReducing noise to reduce melt downs\nReduce hoarding\nCreate safety improvements\nTailor emergency preparedness for dementia\nUse color to reduce fear and improve self-feeding
URL:https://tracycramperkins.com/event/how-to-make-your-home-more-dementia-friendly-4/
LOCATION:Live Demonstration at Ace Hardware\, Gig Harbor\, WA\, 4816 Pt. Fosdick Dr\, Gig Harbor\, WA\, 98335\, United States
CATEGORIES:How to Prepare Your Living Environment for Someone with Dementia
ATTACH;FMTTYPE=image/jpeg:https://tracycramperkins.com/wp-content/uploads/2021/10/rsz_tracy_at_ace-1.jpg
END:VEVENT
BEGIN:VEVENT
DTSTART;TZID=America/Los_Angeles:20211016T120000
DTEND;TZID=America/Los_Angeles:20211016T140000
DTSTAMP:20260424T091324
CREATED:20211014T023509Z
LAST-MODIFIED:20211013T194449Z
UID:1666-1634385600-1634392800@tracycramperkins.com
SUMMARY:How to Make Your Home More Dementia Friendly
DESCRIPTION:5 Little Known Secrets to Making Your Home More Dementia Friendly\nUsing these simple fixes found at the hardware store\, learn how to adapt your loved one’s living environment to: \n\nReduce wandering\nImprove sundowning behaviors\nImprove home safety\nEmploy various cuing aidsUsing these simple fixes found at the hardware store\, learn how to adapt your loved one’s living environment\nUse items and techniques to encourage bathing\nReducing noise to reduce melt downs\nReduce hoarding\nCreate safety improvements\nTailor emergency preparedness for dementia\nUse color to reduce fear and improve self-feeding
URL:https://tracycramperkins.com/event/how-to-make-your-home-more-dementia-friendly/
LOCATION:Live Demonstration at Ace Hardware\, Gig Harbor\, WA\, 4816 Pt. Fosdick Dr\, Gig Harbor\, WA\, 98335\, United States
CATEGORIES:How to Prepare Your Living Environment for Someone with Dementia
ATTACH;FMTTYPE=image/jpeg:https://tracycramperkins.com/wp-content/uploads/2021/10/rsz_tracy_at_ace-1.jpg
END:VEVENT
BEGIN:VEVENT
DTSTART;TZID=America/Los_Angeles:20211015T120000
DTEND;TZID=America/Los_Angeles:20211015T140000
DTSTAMP:20260424T091324
CREATED:20211013T194914Z
LAST-MODIFIED:20211013T194914Z
UID:1673-1634299200-1634306400@tracycramperkins.com
SUMMARY:How to Make Your Home More Dementia Friendly
DESCRIPTION:5 Little Known Secrets to Making Your Home More Dementia Friendly\nUsing these simple fixes found at the hardware store\, learn how to adapt your loved one’s living environment to: \n\nReduce wandering\nImprove sundowning behaviors\nImprove home safety\nEmploy various cuing aidsUsing these simple fixes found at the hardware store\, learn how to adapt your loved one’s living environment\nUse items and techniques to encourage bathing\nReducing noise to reduce melt downs\nReduce hoarding\nCreate safety improvements\nTailor emergency preparedness for dementia\nUse color to reduce fear and improve self-feeding
URL:https://tracycramperkins.com/event/how-to-make-your-home-more-dementia-friendly-2/
LOCATION:Live Demonstration at Ace Hardware\, Gig Harbor\, WA\, 4816 Pt. Fosdick Dr\, Gig Harbor\, WA\, 98335\, United States
CATEGORIES:How to Prepare Your Living Environment for Someone with Dementia
ATTACH;FMTTYPE=image/jpeg:https://tracycramperkins.com/wp-content/uploads/2021/10/rsz_tracy_at_ace-1.jpg
END:VEVENT
END:VCALENDAR